BEGIN:VCALENDAR
VERSION:2.0
PRODID:-//Blue Ops - ECPv6.15.20//NONSGML v1.0//EN
CALSCALE:GREGORIAN
METHOD:PUBLISH
X-WR-CALNAME:Blue Ops
X-ORIGINAL-URL:https://blueops.com
X-WR-CALDESC:Events for Blue Ops
REFRESH-INTERVAL;VALUE=DURATION:PT1H
X-Robots-Tag:noindex
X-PUBLISHED-TTL:PT1H
BEGIN:VTIMEZONE
TZID:America/Los_Angeles
BEGIN:DAYLIGHT
TZOFFSETFROM:-0800
TZOFFSETTO:-0700
TZNAME:PDT
DTSTART:20250309T100000
END:DAYLIGHT
BEGIN:STANDARD
TZOFFSETFROM:-0700
TZOFFSETTO:-0800
TZNAME:PST
DTSTART:20251102T090000
END:STANDARD
BEGIN:DAYLIGHT
TZOFFSETFROM:-0800
TZOFFSETTO:-0700
TZNAME:PDT
DTSTART:20260308T100000
END:DAYLIGHT
BEGIN:STANDARD
TZOFFSETFROM:-0700
TZOFFSETTO:-0800
TZNAME:PST
DTSTART:20261101T090000
END:STANDARD
BEGIN:DAYLIGHT
TZOFFSETFROM:-0800
TZOFFSETTO:-0700
TZNAME:PDT
DTSTART:20270314T100000
END:DAYLIGHT
BEGIN:STANDARD
TZOFFSETFROM:-0700
TZOFFSETTO:-0800
TZNAME:PST
DTSTART:20271107T090000
END:STANDARD
END:VTIMEZONE
BEGIN:VEVENT
DTSTART;VALUE=DATE:20260901
DTEND;VALUE=DATE:20260904
DTSTAMP:20260421T144941
CREATED:20251217T234109Z
LAST-MODIFIED:20251217T234109Z
UID:8739-1788220800-1788479999@blueops.com
SUMMARY:Commercial UAV
DESCRIPTION:Las Vegas\, NV
URL:https://blueops.com/event/commercial-uav-2/
END:VEVENT
BEGIN:VEVENT
DTSTART;VALUE=DATE:20260914
DTEND;VALUE=DATE:20260917
DTSTAMP:20260421T144941
CREATED:20251217T234110Z
LAST-MODIFIED:20251217T234110Z
UID:8740-1789344000-1789603199@blueops.com
SUMMARY:Air\, Space\, & Cyber Conference
DESCRIPTION:National Harbor\, MD
URL:https://blueops.com/event/air-space-cyber-conference/
END:VEVENT
BEGIN:VEVENT
DTSTART;VALUE=DATE:20260922
DTEND;VALUE=DATE:20260923
DTSTAMP:20260421T144941
CREATED:20251217T234111Z
LAST-MODIFIED:20251217T234111Z
UID:8741-1790035200-1790121599@blueops.com
SUMMARY:Bourbon\, Bullets\, Barbecue
DESCRIPTION:Ardmore\, TN
URL:https://blueops.com/event/bourbon-bullets-barbecue/
END:VEVENT
BEGIN:VEVENT
DTSTART;VALUE=DATE:20261006
DTEND;VALUE=DATE:20261009
DTSTAMP:20260421T144941
CREATED:20251217T234111Z
LAST-MODIFIED:20251217T234111Z
UID:8742-1791244800-1791503999@blueops.com
SUMMARY:Land Forces
DESCRIPTION:Perth\, Western Australia
URL:https://blueops.com/event/land-forces/
END:VEVENT
BEGIN:VEVENT
DTSTART;VALUE=DATE:20261012
DTEND;VALUE=DATE:20261013
DTSTAMP:20260421T144941
CREATED:20251217T234304Z
LAST-MODIFIED:20251217T234304Z
UID:8743-1791763200-1791849599@blueops.com
SUMMARY:AUSA Annual
DESCRIPTION:Washington\, DC
URL:https://blueops.com/event/ausa-annual/
END:VEVENT
BEGIN:VEVENT
DTSTART;VALUE=DATE:20261024
DTEND;VALUE=DATE:20261028
DTSTAMP:20260421T144941
CREATED:20251217T234305Z
LAST-MODIFIED:20251217T234305Z
UID:8744-1792800000-1793145599@blueops.com
SUMMARY:IACP Conference
DESCRIPTION:Orlando\, FL
URL:https://blueops.com/event/iacp-conference/
END:VEVENT
BEGIN:VEVENT
DTSTART;VALUE=DATE:20261103
DTEND;VALUE=DATE:20261106
DTSTAMP:20260421T144941
CREATED:20251217T234306Z
LAST-MODIFIED:20251217T234306Z
UID:8745-1793664000-1793923199@blueops.com
SUMMARY:Future Land Forces
DESCRIPTION:Warsaw\, Poland
URL:https://blueops.com/event/future-land-forces/
END:VEVENT
BEGIN:VEVENT
DTSTART;VALUE=DATE:20261203
DTEND;VALUE=DATE:20261207
DTSTAMP:20260421T144941
CREATED:20251217T234306Z
LAST-MODIFIED:20251217T234306Z
UID:8746-1796256000-1796601599@blueops.com
SUMMARY:AUSA LANDEURO
DESCRIPTION:Weisbaden\, Germany
URL:https://blueops.com/event/ausa-landeuro/
END:VEVENT
END:VCALENDAR