BEGIN:VCALENDAR
VERSION:2.0
PRODID:-//Blue Ops - ECPv6.15.20//NONSGML v1.0//EN
CALSCALE:GREGORIAN
METHOD:PUBLISH
X-WR-CALNAME:Blue Ops
X-ORIGINAL-URL:https://blueops.com
X-WR-CALDESC:Events for Blue Ops
REFRESH-INTERVAL;VALUE=DURATION:PT1H
X-Robots-Tag:noindex
X-PUBLISHED-TTL:PT1H
BEGIN:VTIMEZONE
TZID:America/Los_Angeles
BEGIN:DAYLIGHT
TZOFFSETFROM:-0800
TZOFFSETTO:-0700
TZNAME:PDT
DTSTART:20240310T100000
END:DAYLIGHT
BEGIN:STANDARD
TZOFFSETFROM:-0700
TZOFFSETTO:-0800
TZNAME:PST
DTSTART:20241103T090000
END:STANDARD
BEGIN:DAYLIGHT
TZOFFSETFROM:-0800
TZOFFSETTO:-0700
TZNAME:PDT
DTSTART:20250309T100000
END:DAYLIGHT
BEGIN:STANDARD
TZOFFSETFROM:-0700
TZOFFSETTO:-0800
TZNAME:PST
DTSTART:20251102T090000
END:STANDARD
BEGIN:DAYLIGHT
TZOFFSETFROM:-0800
TZOFFSETTO:-0700
TZNAME:PDT
DTSTART:20260308T100000
END:DAYLIGHT
BEGIN:STANDARD
TZOFFSETFROM:-0700
TZOFFSETTO:-0800
TZNAME:PST
DTSTART:20261101T090000
END:STANDARD
END:VTIMEZONE
BEGIN:VEVENT
DTSTART;TZID=America/Los_Angeles:20251022T000000
DTEND;TZID=America/Los_Angeles:20251022T000000
DTSTAMP:20260421T091532
CREATED:20250102T220725Z
LAST-MODIFIED:20250102T220725Z
UID:6464-1761091200-1761091200@blueops.com
SUMMARY:Expodefensa
DESCRIPTION:
URL:https://blueops.com/event/expodefensa-2/
END:VEVENT
BEGIN:VEVENT
DTSTART;VALUE=DATE:20251013
DTEND;VALUE=DATE:20251016
DTSTAMP:20260421T091532
CREATED:20250813T201749Z
LAST-MODIFIED:20250813T201749Z
UID:7829-1760313600-1760572799@blueops.com
SUMMARY:AUSA Annual
DESCRIPTION:Washington DC
URL:https://blueops.com/event/ausa-annual-3/
END:VEVENT
BEGIN:VEVENT
DTSTART;VALUE=DATE:20251010
DTEND;VALUE=DATE:20251013
DTSTAMP:20260421T091532
CREATED:20250813T201749Z
LAST-MODIFIED:20250813T201749Z
UID:7828-1760054400-1760313599@blueops.com
SUMMARY:Fleet Week
DESCRIPTION:San Francisco
URL:https://blueops.com/event/fleet-week/
END:VEVENT
BEGIN:VEVENT
DTSTART;VALUE=DATE:20250925
DTEND;VALUE=DATE:20250927
DTSTAMP:20260421T091532
CREATED:20250813T201749Z
LAST-MODIFIED:20250813T201749Z
UID:7827-1758758400-1758931199@blueops.com
SUMMARY:Bourbon\, Bullets\, & BBQ
DESCRIPTION:Ardmore\, TN
URL:https://blueops.com/event/bourbon-bullets-bbq/
END:VEVENT
BEGIN:VEVENT
DTSTART;VALUE=DATE:20250918
DTEND;VALUE=DATE:20250921
DTSTAMP:20260421T091532
CREATED:20250813T201749Z
LAST-MODIFIED:20250813T201749Z
UID:7825-1758153600-1758412799@blueops.com
SUMMARY:TADTE
DESCRIPTION:Taipei
URL:https://blueops.com/event/tadte/
END:VEVENT
BEGIN:VEVENT
DTSTART;VALUE=DATE:20250909
DTEND;VALUE=DATE:20250913
DTSTAMP:20260421T091532
CREATED:20250813T201746Z
LAST-MODIFIED:20250813T201746Z
UID:7823-1757376000-1757721599@blueops.com
SUMMARY:DSEI
DESCRIPTION:London\, UK
URL:https://blueops.com/event/dsei-3/
END:VEVENT
BEGIN:VEVENT
DTSTART;VALUE=DATE:20250909
DTEND;VALUE=DATE:20250912
DTSTAMP:20260421T091532
CREATED:20250813T201746Z
LAST-MODIFIED:20250813T201746Z
UID:7824-1757376000-1757635199@blueops.com
SUMMARY:Maneuver Warfighter Conference
DESCRIPTION:Ft. Moore\, GA
URL:https://blueops.com/event/maneuver-warfighter-conference/
END:VEVENT
BEGIN:VEVENT
DTSTART;VALUE=DATE:20250902
DTEND;VALUE=DATE:20250905
DTSTAMP:20260421T091532
CREATED:20250813T201745Z
LAST-MODIFIED:20250813T201745Z
UID:7822-1756771200-1757030399@blueops.com
SUMMARY:Commercial UAV
DESCRIPTION:Las Vegas\, NV           Caesars Forum
URL:https://blueops.com/event/commercial-uav/
END:VEVENT
BEGIN:VEVENT
DTSTART;VALUE=DATE:20250825
DTEND;VALUE=DATE:20250828
DTSTAMP:20260421T091532
CREATED:20250813T201744Z
LAST-MODIFIED:20250813T201744Z
UID:7821-1756080000-1756339199@blueops.com
SUMMARY:AUVSI Pathfinder
DESCRIPTION:Huntsville\, AL
URL:https://blueops.com/event/auvsi-pathfinder/
END:VEVENT
BEGIN:VEVENT
DTSTART;VALUE=DATE:20250819
DTEND;VALUE=DATE:20250822
DTSTAMP:20260421T091532
CREATED:20250813T201743Z
LAST-MODIFIED:20250813T201743Z
UID:7820-1755561600-1755820799@blueops.com
SUMMARY:Indo-Pacific Irregular Warfare Symposium
DESCRIPTION:Bangkok\, Thailand
URL:https://blueops.com/event/indo-pacific-irregular-warfare-symposium-2/
END:VEVENT
BEGIN:VEVENT
DTSTART;VALUE=DATE:20250114
DTEND;VALUE=DATE:20250116
DTSTAMP:20260421T091532
CREATED:20251217T233700Z
LAST-MODIFIED:20251217T233700Z
UID:8723-1736812800-1736985599@blueops.com
SUMMARY:CAF WEPTAC 2026
DESCRIPTION:Nellis AFB Las Vegas NV
URL:https://blueops.com/event/caf-weptac-2026/
END:VEVENT
END:VCALENDAR